View In:
ArcGIS JavaScript
ArcGIS Online Map Viewer
ArcGIS Earth
ArcGIS Pro
Service Description:
Map Name: BaseHillshade
Legend
All Layers and Tables
Dynamic Legend
Dynamic All Layers
Layers:
-
Excluded Cities (0)
-
Library (1)
-
Post Office (2)
-
Hospital (3)
-
Fire Station (4)
-
Neighborhoods (5)
-
Building Labels (6)
-
Buildings (7)
-
Parking Lot (8)
-
Roadway Direction (9)
-
Railroad (10)
-
Roadways (1.1-2.3) (14)
-
Roadways (577,791) (15)
-
Roadways(288,895) (16)
-
Roadways (144,448) (17)
-
Roadways (72,224) (18)
-
Roadways (36,112) (19)
-
Roadways (18,056) (20)
-
Roadways (9,028) (24)
-
Roadways (4,514) (28)
-
Roadways (2,257) (32)
-
Roadways (1,128) (36)
-
Trail / Path (40)
-
Hydrology (41)
-
Landmarks (46)
-
Elevation (1 foot Increments) (54)
-
Parcels (55)
-
Land Tint (56)
-
Hillshade (57)
Description:
Service Item Id: 074293810f9b40ed920251ef090b76d9
Copyright Text: City of Indianapolis & Marion County, IN
Spatial Reference:
102100
(3857)
LatestVCSWkid(0)
Single Fused Map Cache: true
Tile Info:
- Height: 256.0
- Width: 256.0
- DPI: 96.0
-
Levels of Detail: 20
-
Level ID: 0
[ Start Tile, End Tile ]
- Resolution: 156543.03392800014
- Scale: 5.91657527591555E8
-
Level ID: 1
[ Start Tile, End Tile ]
- Resolution: 78271.51696399994
- Scale: 2.95828763795777E8
-
Level ID: 2
[ Start Tile, End Tile ]
- Resolution: 39135.75848200009
- Scale: 1.47914381897889E8
-
Level ID: 3
[ Start Tile, End Tile ]
- Resolution: 19567.87924099992
- Scale: 7.3957190948944E7
-
Level ID: 4
[ Start Tile, End Tile ]
- Resolution: 9783.93962049996
- Scale: 3.6978595474472E7
-
Level ID: 5
[ Start Tile, End Tile ]
- Resolution: 4891.96981024998
- Scale: 1.8489297737236E7
- Format: PNG
- Compression Quality: 0.0
- Origin: X: -2.0037508342787E7
Y: 2.0037508342787E7
- Spatial Reference: 102100
(3857)
LatestVCSWkid(0)
Storage Info:
- Storage Format: esriMapCacheStorageModeCompactV2
- Packet Size: 128
Initial Extent:
XMin: -9639154.968911074
YMin: 4824073.505153949
XMax: -9537417.28426364
YMax: 4867260.426135016
Spatial Reference: 102100
(0)
LatestVCSWkid(0)
Full Extent:
XMin: -9639690.02810907
YMin: 4800874.86706943
XMax: -9536882.225065645
YMax: 4867222.207620873
Spatial Reference: 102100
(0)
LatestVCSWkid(0)
Units: esriMeters
Supported Image Format Types: PNG32,PNG24,PNG,JPG,DIB,TIFF,EMF,PS,PDF,GIF,SVG,SVGZ,BMP
Document Info:
Title: BaseHillshade
Author:
Comments:
Subject: City of Indianapolis & Marion County, IN Base Map
Category:
Keywords: Indy,Indianapolis,Marion County,IN,Indiana,Base Map,Basemaps
AntialiasingMode: None
TextAntialiasingMode: Force
Supports Dynamic Layers: true
Resampling: false
MaxRecordCount: 1000
MaxImageHeight: 4096
MaxImageWidth: 4096
Supported Query Formats: JSON, geoJSON, PBF
Supports Query Data Elements: true
Min Scale: 577790.554289
Max Scale: 18055.954822
Supports Datum Transformation: true
Child Resources:
Info
Dynamic Layer
Supported Operations:
Export Map
Identify
QueryLegends
QueryDomains
Find
Return Updates
Generate KML